BEGIN:VCALENDAR
CALSCALE:GREGORIAN
VERSION:2.0
PRODID:https://www.h-ka.de
METHOD:PUBLISH
BEGIN:VTIMEZONE
TZID:Europe/Berlin
TZURL:http://tzurl.org/zoneinfo-outlook/Europe/Berlin
X-LIC-LOCATION:Europe/Berlin
BEGIN:DAYLIGHT
TZOFFSETFROM:+0100
TZOFFSETTO:+0200
TZNAME:CEST
DTSTART:19700329T020000
RRULE:FREQ=YEARLY;BYMONTH=3;BYDAY=-1SU
END:DAYLIGHT
BEGIN:STANDARD
TZOFFSETFROM:+0200
TZOFFSETTO:+0100
TZNAME:CET
DTSTART:19701025T030000
RRULE:FREQ=YEARLY;BYMONTH=10;BYDAY=-1SU
END:STANDARD
END:VTIMEZONE
BEGIN:VEVENT
CLASS:PUBLIC
UID:d11bb22d7be8b315ef790a772d3deda859fab7e1@h-ka.de
ORGANIZER:IWI, EIT, Heinrich-Hertz-Schule
LOCATION:Gebäude E Raum 305
SUMMARY:Vortrag: Textkommunikation auch bei Netzausfall – MeshCore in Karlsruhe
DTSTART;TZID=Europe/Berlin:20260430T171500
DTEND;TZID=Europe/Berlin:20260430T183000
DTSTAMP:20260424T131043Z
END:VEVENT
END:VCALENDAR