BEGIN:VCALENDAR
CALSCALE:GREGORIAN
VERSION:2.0
PRODID:https://www.h-ka.de
METHOD:PUBLISH
BEGIN:VTIMEZONE
TZID:Europe/Berlin
TZURL:http://tzurl.org/zoneinfo-outlook/Europe/Berlin
X-LIC-LOCATION:Europe/Berlin
BEGIN:DAYLIGHT
TZOFFSETFROM:+0100
TZOFFSETTO:+0200
TZNAME:CEST
DTSTART:19700329T020000
RRULE:FREQ=YEARLY;BYMONTH=3;BYDAY=-1SU
END:DAYLIGHT
BEGIN:STANDARD
TZOFFSETFROM:+0200
TZOFFSETTO:+0100
TZNAME:CET
DTSTART:19701025T030000
RRULE:FREQ=YEARLY;BYMONTH=10;BYDAY=-1SU
END:STANDARD
END:VTIMEZONE
BEGIN:VEVENT
CLASS:PUBLIC
UID:348f0cceba21d6d1958a36ff73060c4169493bd3@h-ka.de
ORGANIZER:Agentur für Arbeit Landau
LOCATION:Jugendstil-Festhalle Landau, Mahlastr. 3, 76829 Landau
SUMMARY:STARTklar - die Messe für Ausbildung und Studium
DTSTART;TZID=Europe/Berlin:20260424T100000
DTEND;TZID=Europe/Berlin:20260425T150000
DTSTAMP:20260422T090923Z
END:VEVENT
END:VCALENDAR